BEGIN:VCALENDAR
VERSION:2.0
PRODID:-//UCIE IFIC - ECPv6.3.1//NONSGML v1.0//EN
CALSCALE:GREGORIAN
METHOD:PUBLISH
X-WR-CALNAME:UCIE IFIC
X-ORIGINAL-URL:https://ucie.ific.uv.es/ucie
X-WR-CALDESC:Eventos para UCIE IFIC
REFRESH-INTERVAL;VALUE=DURATION:PT1H
X-Robots-Tag:noindex
X-PUBLISHED-TTL:PT1H
BEGIN:VTIMEZONE
TZID:UTC
BEGIN:STANDARD
TZOFFSETFROM:+0000
TZOFFSETTO:+0000
TZNAME:UTC
DTSTART:20210101T000000
END:STANDARD
END:VTIMEZONE
BEGIN:VEVENT
DTSTART;TZID=UTC:20211124T103000
DTEND;TZID=UTC:20211202T193000
DTSTAMP:20260424T104557
CREATED:20211026T110803Z
LAST-MODIFIED:20211026T110803Z
UID:5830-1637749800-1638473400@ucie.ific.uv.es
SUMMARY:2nd COMCHA School
DESCRIPTION:This is the second school on Computing Challenges for the HL-LHC era. It includes dedicated lectures on Artifical Intelgence and Machine Learning\, and programming in new platforms as GPUs. It also includes talks explaining the several strategies which are being adopted in different fields to cope with the computing challenges in the next decade.
URL:https://ucie.ific.uv.es/ucie/evento/2nd-comcha-school/
CATEGORIES:School
ATTACH;FMTTYPE=image/png:https://ucie.ific.uv.es/ucie/wp-uploads/2021/10/prueba4.png
END:VEVENT
END:VCALENDAR