BEGIN:VCALENDAR
VERSION:2.0
PRODID:-//UCIE IFIC - ECPv6.3.1//NONSGML v1.0//EN
CALSCALE:GREGORIAN
METHOD:PUBLISH
X-WR-CALNAME:UCIE IFIC
X-ORIGINAL-URL:https://ucie.ific.uv.es/ucie
X-WR-CALDESC:Eventos para UCIE IFIC
REFRESH-INTERVAL;VALUE=DURATION:PT1H
X-Robots-Tag:noindex
X-PUBLISHED-TTL:PT1H
BEGIN:VTIMEZONE
TZID:UTC
BEGIN:STANDARD
TZOFFSETFROM:+0000
TZOFFSETTO:+0000
TZNAME:UTC
DTSTART:20220101T000000
END:STANDARD
END:VTIMEZONE
BEGIN:VEVENT
DTSTART;VALUE=DATE:20220325
DTEND;VALUE=DATE:20220326
DTSTAMP:20260424T175001
CREATED:20220225T104257Z
LAST-MODIFIED:20220225T104349Z
UID:6710-1648166400-1648252799@ucie.ific.uv.es
SUMMARY:The ESFRI 20th anniversary conference: European Research Infrastructures at the heart of scientific discoveries
DESCRIPTION:As part of the French Presidency of the Council of the European Union and under the auspices of the French Académie des sciences\, France will host the ESFRI 20th anniversary conference: European Research Infrastructures at the heart of scientific discoveries. \nThe conference\, taking place in Paris on March 25\, will celebrate the achievements of the European Strategy Forum on Research Infrastructures (ESFRI)\, highlighting the role it plays in enhancing European excellence in research and innovation. The conference will bring together key stakeholders\, including policy experts\, facility managers and leading researchers\, to explore the drivers behind the development of the rich European research infrastructures landscape and to discuss emerging trends and the challenges for the future. The conference provides an important opportunity to explore the range of cutting-edge work being undertaken across the research domains that are reliant on the services provided by European research infrastructures. Several outstanding scientists will share with the audience their major discoveries and illustrate how they have benefited from the unique European research infrastructures.
URL:https://ucie.ific.uv.es/ucie/evento/6710/
LOCATION:French Académie des sciences\, Paris\, Francia
CATEGORIES:Conferencia
ATTACH;FMTTYPE=image/png:https://ucie.ific.uv.es/ucie/wp-uploads/2022/02/News-Item-Cover_0.png
END:VEVENT
END:VCALENDAR