BEGIN:VCALENDAR
VERSION:2.0
PRODID:-//UCIE IFIC - ECPv6.3.1//NONSGML v1.0//EN
CALSCALE:GREGORIAN
METHOD:PUBLISH
X-WR-CALNAME:UCIE IFIC
X-ORIGINAL-URL:https://ucie.ific.uv.es/ucie
X-WR-CALDESC:Eventos para UCIE IFIC
REFRESH-INTERVAL;VALUE=DURATION:PT1H
X-Robots-Tag:noindex
X-PUBLISHED-TTL:PT1H
BEGIN:VTIMEZONE
TZID:UTC
BEGIN:STANDARD
TZOFFSETFROM:+0000
TZOFFSETTO:+0000
TZNAME:UTC
DTSTART:20220101T000000
END:STANDARD
END:VTIMEZONE
BEGIN:VEVENT
DTSTART;TZID=UTC:20220329T093000
DTEND;TZID=UTC:20220401T123000
DTSTAMP:20260424T034414
CREATED:20220307T132528Z
LAST-MODIFIED:20220307T132528Z
UID:6747-1648546200-1648816200@ucie.ific.uv.es
SUMMARY:EU Knowledge Valorisation Week
DESCRIPTION:The EU Knowledge Valorisation Week will showcase excellent examples of policies and tools that promote the uptake of research results and science-based solutions for the benefit of all. Universities\, business associations\, research organisations\, arts institutions\, and other stakeholders have helped shape the programme by sharing their best practices in knowledge valorisation. \nThe Week will bring together stakeholders and policy makers across Europe. It will stimulate exchange of experiences and dialogue on ways to improve investments\, capacities and skills for knowledge valorisation in the European Union. Meet with knowledge valorisation enthusiasts and join the discussion! \nThe EU Knowledge Valorisation Week is organised by the European Commission\, Directorate-General Research and Innovation\, EU Member States and EEA countries.
URL:https://ucie.ific.uv.es/ucie/evento/eu-knowledge-valorisation-week/
LOCATION:Online
CATEGORIES:Jornadas
ATTACH;FMTTYPE=image/jpeg:https://ucie.ific.uv.es/ucie/wp-uploads/2022/03/ec_rtd_kvw-2022-banner.jpg
END:VEVENT
END:VCALENDAR