BEGIN:VCALENDAR
VERSION:2.0
PRODID:-//UCIE IFIC - ECPv6.3.1//NONSGML v1.0//EN
CALSCALE:GREGORIAN
METHOD:PUBLISH
X-WR-CALNAME:UCIE IFIC
X-ORIGINAL-URL:https://ucie.ific.uv.es/ucie
X-WR-CALDESC:Eventos para UCIE IFIC
REFRESH-INTERVAL;VALUE=DURATION:PT1H
X-Robots-Tag:noindex
X-PUBLISHED-TTL:PT1H
BEGIN:VTIMEZONE
TZID:UTC
BEGIN:STANDARD
TZOFFSETFROM:+0000
TZOFFSETTO:+0000
TZNAME:UTC
DTSTART:20230101T000000
END:STANDARD
END:VTIMEZONE
BEGIN:VEVENT
DTSTART;TZID=UTC:20231007T080000
DTEND;TZID=UTC:20231013T170000
DTSTAMP:20260424T204250
CREATED:20230514T182626Z
LAST-MODIFIED:20230514T182626Z
UID:8100-1696665600-1697216400@ucie.ific.uv.es
SUMMARY:ICALEPS 2023
DESCRIPTION:La International Conference on Accelerator and Large Experimental Physics Control Systems (ICALEPCS) es una serie bienal de conferencias inaugurada por varios especialistas en sistemas de control de laboratorios de aceleradores de todo el mundo. \nEl próximo evento tendrá lugar en 2023 en Ciudad del Cabo\, Sudáfrica\, y será organizado por el Observatorio Radioastronómico Sudafricano.
URL:https://ucie.ific.uv.es/ucie/evento/icaleps-2023/
LOCATION:South African Radio Astronomy Observatory\, Black River Park North\, 2 Fir St\,\, Cape Town\, 7925\, Sudáfrica
ATTACH;FMTTYPE=image/png:https://ucie.ific.uv.es/ucie/wp-uploads/2023/05/Captura-desde-2023-05-14-20-18-28.png
END:VEVENT
END:VCALENDAR